BEGIN:VCALENDAR
VERSION:2.0
PRODID:icalendar-ruby
CALSCALE:GREGORIAN
METHOD:PUBLISH
BEGIN:VEVENT
DTSTAMP:20260423T090055Z
UID:385-4443869@holytrinitystratford.ca
DTSTART:20251028T220000Z
DTEND:20251029T003000Z
CLASS:PUBLIC
CREATED:20260422T213256
DESCRIPTION:
LAST-MODIFIED:20260422T213256
LOCATION:Upper Hall
SUMMARY:4th Stratford Sparks & Embers - Upper Hall
URL;VALUE=URI:https://www.holytrinitystratford.ca/events/4th-stratford-spar
 ks-embers-upper-hall/2025-10-28
END:VEVENT
END:VCALENDAR
