BEGIN:VCALENDAR
VERSION:2.0
PRODID:icalendar-ruby
CALSCALE:GREGORIAN
METHOD:PUBLISH
BEGIN:VEVENT
DTSTAMP:20260423T103737Z
UID:385-4443870@holytrinitystratford.ca
DTSTART:20251104T230000Z
DTEND:20251105T013000Z
CLASS:PUBLIC
CREATED:20260422T213256
DESCRIPTION:
LAST-MODIFIED:20260422T213256
LOCATION:Upper Hall
SUMMARY:4th Stratford Sparks & Embers - Upper Hall
URL;VALUE=URI:https://www.holytrinitystratford.ca/events/4th-stratford-spar
 ks-embers-upper-hall/2025-11-04
END:VEVENT
END:VCALENDAR
