BEGIN:VCALENDAR
VERSION:2.0
PRODID:icalendar-ruby
CALSCALE:GREGORIAN
METHOD:PUBLISH
BEGIN:VEVENT
DTSTAMP:20260423T121514Z
UID:385-4446420@holytrinitystratford.ca
DTSTART:20251111T230000Z
DTEND:20251112T013000Z
CLASS:PUBLIC
CREATED:20260423T070213
DESCRIPTION:
LAST-MODIFIED:20260423T070213
LOCATION:Upper Hall
SUMMARY:4th Stratford Sparks & Embers - Upper Hall
URL;VALUE=URI:https://www.holytrinitystratford.ca/events/4th-stratford-spar
 ks-embers-upper-hall/2025-11-11
END:VEVENT
END:VCALENDAR
