BEGIN:VCALENDAR
VERSION:2.0
PRODID:icalendar-ruby
CALSCALE:GREGORIAN
METHOD:PUBLISH
BEGIN:VEVENT
DTSTAMP:20260423T155827Z
UID:385-4448971@holytrinitystratford.ca
DTSTART:20251125T230000Z
DTEND:20251126T013000Z
CLASS:PUBLIC
CREATED:20260423T095706
DESCRIPTION:
LAST-MODIFIED:20260423T095706
LOCATION:Upper Hall
SUMMARY:4th Stratford Sparks & Embers - Upper Hall
URL;VALUE=URI:https://www.holytrinitystratford.ca/events/4th-stratford-spar
 ks-embers-upper-hall/2025-11-25
END:VEVENT
END:VCALENDAR
