BEGIN:VCALENDAR
VERSION:2.0
PRODID:icalendar-ruby
CALSCALE:GREGORIAN
METHOD:PUBLISH
BEGIN:VEVENT
DTSTAMP:20260423T211314Z
UID:385-4454076@holytrinitystratford.ca
DTSTART:20260106T230000Z
DTEND:20260107T013000Z
CLASS:PUBLIC
CREATED:20260423T154727
DESCRIPTION:
LAST-MODIFIED:20260423T154727
LOCATION:Upper Hall
SUMMARY:4th Stratford Sparks & Embers - Upper Hall
URL;VALUE=URI:https://www.holytrinitystratford.ca/events/4th-stratford-spar
 ks-embers-upper-hall/2026-01-06
END:VEVENT
END:VCALENDAR
