BEGIN:VCALENDAR
VERSION:2.0
PRODID:icalendar-ruby
CALSCALE:GREGORIAN
METHOD:PUBLISH
BEGIN:VEVENT
DTSTAMP:20260423T223329Z
UID:385-4454077@holytrinitystratford.ca
DTSTART:20260113T230000Z
DTEND:20260114T013000Z
CLASS:PUBLIC
CREATED:20260423T154727
DESCRIPTION:
LAST-MODIFIED:20260423T154727
LOCATION:Upper Hall
SUMMARY:4th Stratford Sparks & Embers - Upper Hall
URL;VALUE=URI:https://www.holytrinitystratford.ca/events/4th-stratford-spar
 ks-embers-upper-hall/2026-01-13
END:VEVENT
END:VCALENDAR
