BEGIN:VCALENDAR
VERSION:2.0
PRODID:icalendar-ruby
CALSCALE:GREGORIAN
METHOD:PUBLISH
BEGIN:VEVENT
DTSTAMP:20260424T010903Z
UID:385-4456673@holytrinitystratford.ca
DTSTART:20260127T230000Z
DTEND:20260128T013000Z
CLASS:PUBLIC
CREATED:20260423T184146
DESCRIPTION:
LAST-MODIFIED:20260423T184146
LOCATION:Upper Hall
SUMMARY:4th Stratford Sparks & Embers - Upper Hall
URL;VALUE=URI:https://www.holytrinitystratford.ca/events/4th-stratford-spar
 ks-embers-upper-hall/2026-01-27
END:VEVENT
END:VCALENDAR
