BEGIN:VCALENDAR
VERSION:2.0
PRODID:icalendar-ruby
CALSCALE:GREGORIAN
METHOD:PUBLISH
BEGIN:VEVENT
DTSTAMP:20260424T022956Z
UID:385-4459225@holytrinitystratford.ca
DTSTART:20260203T230000Z
DTEND:20260204T013000Z
CLASS:PUBLIC
CREATED:20260423T213456
DESCRIPTION:
LAST-MODIFIED:20260423T213456
LOCATION:Upper Hall
SUMMARY:4th Stratford Sparks & Embers - Upper Hall
URL;VALUE=URI:https://www.holytrinitystratford.ca/events/4th-stratford-spar
 ks-embers-upper-hall/2026-02-03
END:VEVENT
END:VCALENDAR
