BEGIN:VCALENDAR
VERSION:2.0
PRODID:icalendar-ruby
CALSCALE:GREGORIAN
METHOD:PUBLISH
BEGIN:VEVENT
DTSTAMP:20260425T141303Z
UID:8-4478370@holytrinitystratford.ca
DTSTART:20220421T140000Z
DTEND:20220421T150000Z
CLASS:PUBLIC
CREATED:20260425T093910
DESCRIPTION:Our Celtic Worship Service via Zoom occurs weekly on Thursdays 
 at 10am. All are welcome! For more information and access to the Zoom meet
 ing invitation\, please sign up for our Weekly Email\, by filling in the f
 orm on the homepage of this website.
LAST-MODIFIED:20260425T093910
LOCATION:
SUMMARY:Celtic Worship - Zoom
URL;VALUE=URI:https://www.holytrinitystratford.ca/events/celtic-worship-zoo
 m/2022-04-21
ATTACH;FILENAME=Celtic Worship.png;FMTTYPE=image/png:https://dq5pwpg1q8ru0.
 cloudfront.net/2020/10/20/21/10/44/b8149cdb-a239-42d4-8161-c3bc249a2a22/Ce
 ltic%20Worship.png
END:VEVENT
END:VCALENDAR
