BEGIN:VCALENDAR
VERSION:2.0
PRODID:icalendar-ruby
CALSCALE:GREGORIAN
METHOD:PUBLISH
BEGIN:VEVENT
DTSTAMP:20260423T091349Z
UID:1194-3410161@holytrinitystratford.ca
DTSTART:20260208T130000Z
DTEND:20260208T140000Z
CLASS:PUBLIC
CREATED:20260215T161028
DESCRIPTION:
LAST-MODIFIED:20260215T161028
LOCATION:Holy Trinity Anglican Church
SUMMARY:Holy Communion - BCP Service
URL;VALUE=URI:https://www.holytrinitystratford.ca/events/holy-communion-bcp
 -service--1194/2026-02-08
END:VEVENT
END:VCALENDAR
