BEGIN:VCALENDAR
VERSION:2.0
PRODID:icalendar-ruby
CALSCALE:GREGORIAN
METHOD:PUBLISH
BEGIN:VEVENT
DTSTAMP:20260423T102605Z
UID:43-4443551@holytrinitystratford.ca
DTSTART:20240904T140000Z
DTEND:20240904T143000Z
CLASS:PUBLIC
CREATED:20260422T213256
DESCRIPTION:
LAST-MODIFIED:20260422T213256
LOCATION:Chapel
SUMMARY:Holy Eucharist
URL;VALUE=URI:https://www.holytrinitystratford.ca/events/holy-eucharist--42
 /2024-09-04
END:VEVENT
END:VCALENDAR
