BEGIN:VCALENDAR
VERSION:2.0
PRODID:icalendar-ruby
CALSCALE:GREGORIAN
METHOD:PUBLISH
BEGIN:VEVENT
DTSTAMP:20260423T135043Z
UID:43-4446102@holytrinitystratford.ca
DTSTART:20240918T140000Z
DTEND:20240918T143000Z
CLASS:PUBLIC
CREATED:20260423T070213
DESCRIPTION:
LAST-MODIFIED:20260423T070213
LOCATION:Chapel
SUMMARY:Holy Eucharist
URL;VALUE=URI:https://www.holytrinitystratford.ca/events/holy-eucharist--42
 /2024-09-18
END:VEVENT
END:VCALENDAR
