BEGIN:VCALENDAR
VERSION:2.0
PRODID:icalendar-ruby
CALSCALE:GREGORIAN
METHOD:PUBLISH
BEGIN:VEVENT
DTSTAMP:20260423T170030Z
UID:43-4451203@holytrinitystratford.ca
DTSTART:20241002T140000Z
DTEND:20241002T143000Z
CLASS:PUBLIC
CREATED:20260423T125042
DESCRIPTION:
LAST-MODIFIED:20260423T125042
LOCATION:Chapel
SUMMARY:Holy Eucharist
URL;VALUE=URI:https://www.holytrinitystratford.ca/events/holy-eucharist--42
 /2024-10-02
END:VEVENT
END:VCALENDAR
