BEGIN:VCALENDAR
VERSION:2.0
PRODID:icalendar-ruby
CALSCALE:GREGORIAN
METHOD:PUBLISH
BEGIN:VEVENT
DTSTAMP:20260423T195826Z
UID:43-4453756@holytrinitystratford.ca
DTSTART:20241016T140000Z
DTEND:20241016T143000Z
CLASS:PUBLIC
CREATED:20260423T154727
DESCRIPTION:
LAST-MODIFIED:20260423T154727
LOCATION:Chapel
SUMMARY:Holy Eucharist
URL;VALUE=URI:https://www.holytrinitystratford.ca/events/holy-eucharist--42
 /2024-10-16
END:VEVENT
END:VCALENDAR
