BEGIN:VCALENDAR
VERSION:2.0
PRODID:icalendar-ruby
CALSCALE:GREGORIAN
METHOD:PUBLISH
BEGIN:VEVENT
DTSTAMP:20260423T225135Z
UID:43-4456352@holytrinitystratford.ca
DTSTART:20241030T140000Z
DTEND:20241030T143000Z
CLASS:PUBLIC
CREATED:20260423T184145
DESCRIPTION:
LAST-MODIFIED:20260423T184145
LOCATION:Chapel
SUMMARY:Holy Eucharist
URL;VALUE=URI:https://www.holytrinitystratford.ca/events/holy-eucharist--42
 /2024-10-30
END:VEVENT
END:VCALENDAR
