BEGIN:VCALENDAR
VERSION:2.0
PRODID:icalendar-ruby
CALSCALE:GREGORIAN
METHOD:PUBLISH
BEGIN:VEVENT
DTSTAMP:20260424T013119Z
UID:43-4456354@holytrinitystratford.ca
DTSTART:20241113T150000Z
DTEND:20241113T153000Z
CLASS:PUBLIC
CREATED:20260423T184145
DESCRIPTION:
LAST-MODIFIED:20260423T184145
LOCATION:Chapel
SUMMARY:Holy Eucharist
URL;VALUE=URI:https://www.holytrinitystratford.ca/events/holy-eucharist--42
 /2024-11-13
END:VEVENT
END:VCALENDAR
