BEGIN:VCALENDAR
VERSION:2.0
PRODID:icalendar-ruby
CALSCALE:GREGORIAN
METHOD:PUBLISH
BEGIN:VEVENT
DTSTAMP:20260424T024634Z
UID:43-4458906@holytrinitystratford.ca
DTSTART:20241120T150000Z
DTEND:20241120T153000Z
CLASS:PUBLIC
CREATED:20260423T213455
DESCRIPTION:
LAST-MODIFIED:20260423T213455
LOCATION:Chapel
SUMMARY:Holy Eucharist
URL;VALUE=URI:https://www.holytrinitystratford.ca/events/holy-eucharist--42
 /2024-11-20
END:VEVENT
END:VCALENDAR
