BEGIN:VCALENDAR
VERSION:2.0
PRODID:icalendar-ruby
CALSCALE:GREGORIAN
METHOD:PUBLISH
BEGIN:VEVENT
DTSTAMP:20260424T110635Z
UID:43-4461463@holytrinitystratford.ca
DTSTART:20250115T150000Z
DTEND:20250115T153000Z
CLASS:PUBLIC
CREATED:20260424T070255
DESCRIPTION:
LAST-MODIFIED:20260424T070255
LOCATION:Chapel
SUMMARY:Holy Eucharist
URL;VALUE=URI:https://www.holytrinitystratford.ca/events/holy-eucharist--42
 /2025-01-15
END:VEVENT
END:VCALENDAR
