BEGIN:VCALENDAR
VERSION:2.0
PRODID:icalendar-ruby
CALSCALE:GREGORIAN
METHOD:PUBLISH
BEGIN:VEVENT
DTSTAMP:20260422T085555Z
UID:43-4427982@holytrinitystratford.ca
DTSTART:20250528T140000Z
DTEND:20250528T143000Z
CLASS:PUBLIC
CREATED:20260421T200250
DESCRIPTION:
LAST-MODIFIED:20260421T200250
LOCATION:Chapel
SUMMARY:Holy Eucharist
URL;VALUE=URI:https://www.holytrinitystratford.ca/events/holy-eucharist--42
 /2025-05-28
END:VEVENT
END:VCALENDAR
