BEGIN:VCALENDAR
VERSION:2.0
PRODID:icalendar-ruby
CALSCALE:GREGORIAN
METHOD:PUBLISH
BEGIN:VEVENT
DTSTAMP:20260422T132956Z
UID:43-4430570@holytrinitystratford.ca
DTSTART:20250618T140000Z
DTEND:20250618T143000Z
CLASS:PUBLIC
CREATED:20260422T070158
DESCRIPTION:
LAST-MODIFIED:20260422T070158
LOCATION:Chapel
SUMMARY:Holy Eucharist
URL;VALUE=URI:https://www.holytrinitystratford.ca/events/holy-eucharist--42
 /2025-06-18
END:VEVENT
END:VCALENDAR
