BEGIN:VCALENDAR
VERSION:2.0
PRODID:icalendar-ruby
CALSCALE:GREGORIAN
METHOD:PUBLISH
BEGIN:VEVENT
DTSTAMP:20260422T153628Z
UID:43-4433158@holytrinitystratford.ca
DTSTART:20250625T140000Z
DTEND:20250625T143000Z
CLASS:PUBLIC
CREATED:20260422T095640
DESCRIPTION:
LAST-MODIFIED:20260422T095640
LOCATION:Chapel
SUMMARY:Holy Eucharist
URL;VALUE=URI:https://www.holytrinitystratford.ca/events/holy-eucharist--42
 /2025-06-25
END:VEVENT
END:VCALENDAR
