BEGIN:VCALENDAR
VERSION:2.0
PRODID:icalendar-ruby
CALSCALE:GREGORIAN
METHOD:PUBLISH
BEGIN:VEVENT
DTSTAMP:20260422T185649Z
UID:43-4435947@holytrinitystratford.ca
DTSTART:20250709T140000Z
DTEND:20250709T143000Z
CLASS:PUBLIC
CREATED:20260422T125202
DESCRIPTION:
LAST-MODIFIED:20260422T125202
LOCATION:Chapel
SUMMARY:Holy Eucharist
URL;VALUE=URI:https://www.holytrinitystratford.ca/events/holy-eucharist--42
 /2025-07-09
END:VEVENT
END:VCALENDAR
