BEGIN:VCALENDAR
VERSION:2.0
PRODID:icalendar-ruby
CALSCALE:GREGORIAN
METHOD:PUBLISH
BEGIN:VEVENT
DTSTAMP:20260422T220401Z
UID:43-4438498@holytrinitystratford.ca
DTSTART:20250723T140000Z
DTEND:20250723T143000Z
CLASS:PUBLIC
CREATED:20260422T154654
DESCRIPTION:
LAST-MODIFIED:20260422T154654
LOCATION:Chapel
SUMMARY:Holy Eucharist
URL;VALUE=URI:https://www.holytrinitystratford.ca/events/holy-eucharist--42
 /2025-07-23
END:VEVENT
END:VCALENDAR
