BEGIN:VCALENDAR
VERSION:2.0
PRODID:icalendar-ruby
CALSCALE:GREGORIAN
METHOD:PUBLISH
BEGIN:VEVENT
DTSTAMP:20260422T235624Z
UID:43-4441047@holytrinitystratford.ca
DTSTART:20250730T140000Z
DTEND:20250730T143000Z
CLASS:PUBLIC
CREATED:20260422T184046
DESCRIPTION:
LAST-MODIFIED:20260422T184046
LOCATION:Chapel
SUMMARY:Holy Eucharist
URL;VALUE=URI:https://www.holytrinitystratford.ca/events/holy-eucharist--42
 /2025-07-30
END:VEVENT
END:VCALENDAR
