BEGIN:VCALENDAR
VERSION:2.0
PRODID:icalendar-ruby
CALSCALE:GREGORIAN
METHOD:PUBLISH
BEGIN:VEVENT
DTSTAMP:20260423T012639Z
UID:43-4441048@holytrinitystratford.ca
DTSTART:20250806T140000Z
DTEND:20250806T143000Z
CLASS:PUBLIC
CREATED:20260422T184046
DESCRIPTION:
LAST-MODIFIED:20260422T184046
LOCATION:Chapel
SUMMARY:Holy Eucharist
URL;VALUE=URI:https://www.holytrinitystratford.ca/events/holy-eucharist--42
 /2025-08-06
END:VEVENT
END:VCALENDAR
