BEGIN:VCALENDAR
VERSION:2.0
PRODID:icalendar-ruby
CALSCALE:GREGORIAN
METHOD:PUBLISH
BEGIN:VEVENT
DTSTAMP:20260423T092431Z
UID:43-4443601@holytrinitystratford.ca
DTSTART:20250910T140000Z
DTEND:20250910T143000Z
CLASS:PUBLIC
CREATED:20260422T213256
DESCRIPTION:
LAST-MODIFIED:20260422T213256
LOCATION:Chapel
SUMMARY:Holy Eucharist
URL;VALUE=URI:https://www.holytrinitystratford.ca/events/holy-eucharist--42
 /2025-09-10
END:VEVENT
END:VCALENDAR
