BEGIN:VCALENDAR
VERSION:2.0
PRODID:icalendar-ruby
CALSCALE:GREGORIAN
METHOD:PUBLISH
BEGIN:VEVENT
DTSTAMP:20260423T162833Z
UID:43-4448704@holytrinitystratford.ca
DTSTART:20251015T140000Z
DTEND:20251015T143000Z
CLASS:PUBLIC
CREATED:20260423T095706
DESCRIPTION:
LAST-MODIFIED:20260423T095706
LOCATION:Chapel
SUMMARY:Holy Eucharist
URL;VALUE=URI:https://www.holytrinitystratford.ca/events/holy-eucharist--42
 /2025-10-15
END:VEVENT
END:VCALENDAR
