BEGIN:VCALENDAR
VERSION:2.0
PRODID:icalendar-ruby
CALSCALE:GREGORIAN
METHOD:PUBLISH
BEGIN:VEVENT
DTSTAMP:20260423T202425Z
UID:43-4453808@holytrinitystratford.ca
DTSTART:20251105T150000Z
DTEND:20251105T153000Z
CLASS:PUBLIC
CREATED:20260423T154727
DESCRIPTION:
LAST-MODIFIED:20260423T154727
LOCATION:Chapel
SUMMARY:Holy Eucharist
URL;VALUE=URI:https://www.holytrinitystratford.ca/events/holy-eucharist--42
 /2025-11-05
END:VEVENT
END:VCALENDAR
