BEGIN:VCALENDAR
VERSION:2.0
PRODID:icalendar-ruby
CALSCALE:GREGORIAN
METHOD:PUBLISH
BEGIN:VEVENT
DTSTAMP:20260423T214633Z
UID:43-4453809@holytrinitystratford.ca
DTSTART:20251112T150000Z
DTEND:20251112T153000Z
CLASS:PUBLIC
CREATED:20260423T154727
DESCRIPTION:
LAST-MODIFIED:20260423T154727
LOCATION:Chapel
SUMMARY:Holy Eucharist
URL;VALUE=URI:https://www.holytrinitystratford.ca/events/holy-eucharist--42
 /2025-11-12
END:VEVENT
END:VCALENDAR
