BEGIN:VCALENDAR
VERSION:2.0
PRODID:icalendar-ruby
CALSCALE:GREGORIAN
METHOD:PUBLISH
BEGIN:VEVENT
DTSTAMP:20260423T230114Z
UID:43-4456404@holytrinitystratford.ca
DTSTART:20251119T150000Z
DTEND:20251119T153000Z
CLASS:PUBLIC
CREATED:20260423T184145
DESCRIPTION:
LAST-MODIFIED:20260423T184145
LOCATION:Chapel
SUMMARY:Holy Eucharist
URL;VALUE=URI:https://www.holytrinitystratford.ca/events/holy-eucharist--42
 /2025-11-19
END:VEVENT
END:VCALENDAR
