BEGIN:VCALENDAR
VERSION:2.0
PRODID:icalendar-ruby
CALSCALE:GREGORIAN
METHOD:PUBLISH
BEGIN:VEVENT
DTSTAMP:20260424T074555Z
UID:43-4458962@holytrinitystratford.ca
DTSTART:20260107T150000Z
DTEND:20260107T153000Z
CLASS:PUBLIC
CREATED:20260423T213456
DESCRIPTION:
LAST-MODIFIED:20260423T213456
LOCATION:Chapel
SUMMARY:Holy Eucharist
URL;VALUE=URI:https://www.holytrinitystratford.ca/events/holy-eucharist--42
 /2026-01-07
END:VEVENT
END:VCALENDAR
