BEGIN:VCALENDAR
VERSION:2.0
PRODID:icalendar-ruby
CALSCALE:GREGORIAN
METHOD:PUBLISH
BEGIN:VEVENT
DTSTAMP:20260424T092004Z
UID:43-4458963@holytrinitystratford.ca
DTSTART:20260114T150000Z
DTEND:20260114T153000Z
CLASS:PUBLIC
CREATED:20260423T213456
DESCRIPTION:
LAST-MODIFIED:20260423T213456
LOCATION:Chapel
SUMMARY:Holy Eucharist
URL;VALUE=URI:https://www.holytrinitystratford.ca/events/holy-eucharist--42
 /2026-01-14
END:VEVENT
END:VCALENDAR
