BEGIN:VCALENDAR
VERSION:2.0
PRODID:icalendar-ruby
CALSCALE:GREGORIAN
METHOD:PUBLISH
BEGIN:VEVENT
DTSTAMP:20260424T121757Z
UID:43-4461516@holytrinitystratford.ca
DTSTART:20260128T150000Z
DTEND:20260128T153000Z
CLASS:PUBLIC
CREATED:20260424T070255
DESCRIPTION:
LAST-MODIFIED:20260424T070255
LOCATION:Chapel
SUMMARY:Holy Eucharist
URL;VALUE=URI:https://www.holytrinitystratford.ca/events/holy-eucharist--42
 /2026-01-28
END:VEVENT
END:VCALENDAR
