BEGIN:VCALENDAR
VERSION:2.0
PRODID:icalendar-ruby
CALSCALE:GREGORIAN
METHOD:PUBLISH
BEGIN:VEVENT
DTSTAMP:20260424T154000Z
UID:43-4464069@holytrinitystratford.ca
DTSTART:20260211T150000Z
DTEND:20260211T153000Z
CLASS:PUBLIC
CREATED:20260424T095706
DESCRIPTION:
LAST-MODIFIED:20260424T095706
LOCATION:Chapel
SUMMARY:Holy Eucharist
URL;VALUE=URI:https://www.holytrinitystratford.ca/events/holy-eucharist--42
 /2026-02-11
END:VEVENT
END:VCALENDAR
