BEGIN:VCALENDAR
VERSION:2.0
PRODID:icalendar-ruby
CALSCALE:GREGORIAN
METHOD:PUBLISH
BEGIN:VEVENT
DTSTAMP:20260422T134100Z
UID:5-4429018@holytrinitystratford.ca
DTSTART:20260113T143000Z
DTEND:20260113T160000Z
CLASS:PUBLIC
CREATED:20260422T070153
DESCRIPTION:Our Community Food Bank is open to everyone on Tuesdays from 9:
 30am to 11:00am! Please confirm each week that we are open!\nWill be cance
 lled if a 5th week in the month.
LAST-MODIFIED:20260422T070153
LOCATION:Holy Trinity - Upper Hall
SUMMARY:Holy Trinity Community Food Bank - Upper Hall
URL;VALUE=URI:https://www.holytrinitystratford.ca/events/holy-trinity-commu
 nity-food-bank-upper-hall/2026-01-13
END:VEVENT
END:VCALENDAR
