BEGIN:VCALENDAR
VERSION:2.0
PRODID:icalendar-ruby
CALSCALE:GREGORIAN
METHOD:PUBLISH
BEGIN:VEVENT
DTSTAMP:20260423T005059Z
UID:5-4439494@holytrinitystratford.ca
DTSTART:20260224T143000Z
DTEND:20260224T160000Z
CLASS:PUBLIC
CREATED:20260422T184040
DESCRIPTION:Our Community Food Bank is open to everyone on Tuesdays from 9:
 30am to 11:00am! Please confirm each week that we are open!\nWill be cance
 lled if a 5th week in the month.
LAST-MODIFIED:20260422T184040
LOCATION:Holy Trinity - Upper Hall
SUMMARY:Holy Trinity Community Food Bank - Upper Hall
URL;VALUE=URI:https://www.holytrinitystratford.ca/events/holy-trinity-commu
 nity-food-bank-upper-hall/2026-02-24
END:VEVENT
END:VCALENDAR
