BEGIN:VCALENDAR
VERSION:2.0
PRODID:icalendar-ruby
CALSCALE:GREGORIAN
METHOD:PUBLISH
BEGIN:VEVENT
DTSTAMP:20260424T180844Z
UID:1319-4433963@holytrinitystratford.ca
DTSTART:20260425T140000Z
DTEND:20260425T153000Z
CLASS:PUBLIC
CREATED:20260422T102556
DESCRIPTION:
LAST-MODIFIED:20260422T102556
LOCATION:God's Holy Acre
SUMMARY:Interment - God's Holy Acre
URL;VALUE=URI:https://www.holytrinitystratford.ca/events/interment-gods-hol
 y-acre--1319/2026-04-25
END:VEVENT
END:VCALENDAR
