BEGIN:VCALENDAR
VERSION:2.0
PRODID:icalendar-ruby
CALSCALE:GREGORIAN
METHOD:PUBLISH
BEGIN:VEVENT
DTSTAMP:20260423T135330Z
UID:745-3770260@holytrinitystratford.ca
DTSTART:20251010T140000Z
DTEND:20251010T150000Z
CLASS:PUBLIC
CREATED:20260311T015125
DESCRIPTION:
LAST-MODIFIED:20260311T015125
LOCATION:Club Room
SUMMARY:Treasure Hunt Bible Study - Club Room
URL;VALUE=URI:https://www.holytrinitystratford.ca/events/treasure-hunt-bibl
 e-study-club-room/2025-10-10
END:VEVENT
END:VCALENDAR
