BEGIN:VCALENDAR
VERSION:2.0
PRODID:icalendar-ruby
CALSCALE:GREGORIAN
METHOD:PUBLISH
BEGIN:VEVENT
DTSTAMP:20260423T211729Z
UID:745-3770265@holytrinitystratford.ca
DTSTART:20251114T150000Z
DTEND:20251114T160000Z
CLASS:PUBLIC
CREATED:20260311T015125
DESCRIPTION:
LAST-MODIFIED:20260311T015125
LOCATION:Club Room
SUMMARY:Treasure Hunt Bible Study - Club Room
URL;VALUE=URI:https://www.holytrinitystratford.ca/events/treasure-hunt-bibl
 e-study-club-room/2025-11-14
END:VEVENT
END:VCALENDAR
