BEGIN:VCALENDAR
VERSION:2.0
PRODID:icalendar-ruby
CALSCALE:GREGORIAN
METHOD:PUBLISH
BEGIN:VEVENT
DTSTAMP:20260424T062443Z
UID:745-3770272@holytrinitystratford.ca
DTSTART:20260116T150000Z
DTEND:20260116T160000Z
CLASS:PUBLIC
CREATED:20260311T015125
DESCRIPTION:
LAST-MODIFIED:20260311T015125
LOCATION:Club Room
SUMMARY:Treasure Hunt Bible Study - Club Room
URL;VALUE=URI:https://www.holytrinitystratford.ca/events/treasure-hunt-bibl
 e-study-club-room/2026-01-16
END:VEVENT
END:VCALENDAR
