BEGIN:VCALENDAR
VERSION:2.0
PRODID:icalendar-ruby
CALSCALE:GREGORIAN
METHOD:PUBLISH
BEGIN:VEVENT
DTSTAMP:20260422T085151Z
UID:1017-1889095@holytrinitystratford.ca
DTSTART:20250424T130000Z
DTEND:20250425T020000Z
CLASS:PUBLIC
CREATED:20250420T175437
DESCRIPTION:
LAST-MODIFIED:20250420T175437
LOCATION:Upper Hall
SUMMARY:Wedding Preparations - Upper Hall
URL;VALUE=URI:https://www.holytrinitystratford.ca/events/wedding-preparatio
 ns-upper-hall/2025-04-24
END:VEVENT
END:VCALENDAR
